BEGIN:VCALENDAR
VERSION:2.0
PRODID:-//Harry&#039;s Honey Pot - ECPv6.15.20//NONSGML v1.0//EN
CALSCALE:GREGORIAN
METHOD:PUBLISH
X-ORIGINAL-URL:https://harryshoneypot.com
X-WR-CALDESC:Events for Harry&#039;s Honey Pot
REFRESH-INTERVAL;VALUE=DURATION:PT1H
X-Robots-Tag:noindex
X-PUBLISHED-TTL:PT1H
BEGIN:VTIMEZONE
TZID:UTC
BEGIN:STANDARD
TZOFFSETFROM:+0000
TZOFFSETTO:+0000
TZNAME:UTC
DTSTART:20230101T000000
END:STANDARD
END:VTIMEZONE
BEGIN:VEVENT
DTSTART;TZID=UTC:20240912T170000
DTEND;TZID=UTC:20240912T210000
DTSTAMP:20260423T174352
CREATED:20240717T165858Z
LAST-MODIFIED:20240717T165858Z
UID:2963-1726160400-1726174800@harryshoneypot.com
SUMMARY:Hermitage Night Market
DESCRIPTION:
URL:https://harryshoneypot.com/event/hermitage-night-market/
END:VEVENT
BEGIN:VEVENT
DTSTART;TZID=UTC:20240907T090000
DTEND;TZID=UTC:20240907T160000
DTSTAMP:20260423T174352
CREATED:20240717T165806Z
LAST-MODIFIED:20240717T165806Z
UID:2961-1725699600-1725724800@harryshoneypot.com
SUMMARY:Lake Latonka Fall Festival
DESCRIPTION:
URL:https://harryshoneypot.com/event/lake-latonka-fall-festival/
END:VEVENT
BEGIN:VEVENT
DTSTART;TZID=UTC:20240817T120000
DTEND;TZID=UTC:20240817T160000
DTSTAMP:20260423T174352
CREATED:20240717T165656Z
LAST-MODIFIED:20240717T165656Z
UID:2959-1723896000-1723910400@harryshoneypot.com
SUMMARY:Plantation Park Craft Show
DESCRIPTION:
URL:https://harryshoneypot.com/event/plantation-park-craft-show/
END:VEVENT
BEGIN:VEVENT
DTSTART;TZID=UTC:20240808T170000
DTEND;TZID=UTC:20240808T210000
DTSTAMP:20260423T174352
CREATED:20240717T165400Z
LAST-MODIFIED:20240717T165400Z
UID:2955-1723136400-1723150800@harryshoneypot.com
SUMMARY:Hermitage\, PA Night Market
DESCRIPTION:
URL:https://harryshoneypot.com/event/hermitage-pa-night-market/
END:VEVENT
BEGIN:VEVENT
DTSTART;TZID=UTC:20240808T080000
DTEND;TZID=UTC:20240811T210000
DTSTAMP:20260423T174352
CREATED:20240717T165518Z
LAST-MODIFIED:20240717T165518Z
UID:2957-1723104000-1723410000@harryshoneypot.com
SUMMARY:Warren\, OH Italian Festival
DESCRIPTION:
URL:https://harryshoneypot.com/event/warren-oh-italian-festival/
END:VEVENT
BEGIN:VEVENT
DTSTART;TZID=UTC:20240804T100000
DTEND;TZID=UTC:20240804T170000
DTSTAMP:20260423T174352
CREATED:20240717T165245Z
LAST-MODIFIED:20240717T165245Z
UID:2953-1722765600-1722790800@harryshoneypot.com
SUMMARY:Chardon Square Arts Festival\, Ohio
DESCRIPTION:
URL:https://harryshoneypot.com/event/chardon-square-arts-festival-ohio/
END:VEVENT
BEGIN:VEVENT
DTSTART;TZID=UTC:20240803T120000
DTEND;TZID=UTC:20240803T210000
DTSTAMP:20260423T174352
CREATED:20240717T165052Z
LAST-MODIFIED:20240717T165052Z
UID:2951-1722686400-1722718800@harryshoneypot.com
SUMMARY:Peach Festival at Nova Wine Cellars
DESCRIPTION:
URL:https://harryshoneypot.com/event/peach-festival-at-nova-wine-cellars/
END:VEVENT
BEGIN:VEVENT
DTSTART;TZID=UTC:20240727T120000
DTEND;TZID=UTC:20240727T220000
DTSTAMP:20260423T174352
CREATED:20240717T164850Z
LAST-MODIFIED:20240717T164850Z
UID:2949-1722081600-1722117600@harryshoneypot.com
SUMMARY:Waterfire Sharon\, PA
DESCRIPTION:
URL:https://harryshoneypot.com/event/waterfire-sharon-pa/
END:VEVENT
END:VCALENDAR